BEGIN:VCALENDAR
VERSION:2.0
PRODID:-//Einstein Center Population Diversity - ECPv6.15.17//NONSGML v1.0//EN
CALSCALE:GREGORIAN
METHOD:PUBLISH
X-WR-CALNAME:Einstein Center Population Diversity
X-ORIGINAL-URL:https://einstein-diversity.com
X-WR-CALDESC:Events for Einstein Center Population Diversity
REFRESH-INTERVAL;VALUE=DURATION:PT1H
X-Robots-Tag:noindex
X-PUBLISHED-TTL:PT1H
BEGIN:VTIMEZONE
TZID:Europe/Berlin
BEGIN:DAYLIGHT
TZOFFSETFROM:+0100
TZOFFSETTO:+0200
TZNAME:CEST
DTSTART:20250330T010000
END:DAYLIGHT
BEGIN:STANDARD
TZOFFSETFROM:+0200
TZOFFSETTO:+0100
TZNAME:CET
DTSTART:20251026T010000
END:STANDARD
BEGIN:DAYLIGHT
TZOFFSETFROM:+0100
TZOFFSETTO:+0200
TZNAME:CEST
DTSTART:20260329T010000
END:DAYLIGHT
BEGIN:STANDARD
TZOFFSETFROM:+0200
TZOFFSETTO:+0100
TZNAME:CET
DTSTART:20261025T010000
END:STANDARD
BEGIN:DAYLIGHT
TZOFFSETFROM:+0100
TZOFFSETTO:+0200
TZNAME:CEST
DTSTART:20270328T010000
END:DAYLIGHT
BEGIN:STANDARD
TZOFFSETFROM:+0200
TZOFFSETTO:+0100
TZNAME:CET
DTSTART:20271031T010000
END:STANDARD
END:VTIMEZONE
BEGIN:VEVENT
DTSTART;TZID=Europe/Berlin:20260908T130000
DTEND;TZID=Europe/Berlin:20260908T140000
DTSTAMP:20260422T000733
CREATED:20260420T085158Z
LAST-MODIFIED:20260420T085213Z
UID:1469-1788872400-1788876000@einstein-diversity.com
SUMMARY:TUESDAY DIALOGUES: Who can still afford to buy their own home?
DESCRIPTION:Wer schafft noch den Sprung ins Eigenheim? \nSpeaker:\nProf. Dr. Philipp Lersch\, Professor für Soziologie der Sozialpolitik an der Humboldt-Universität zu Berlin und Forschungsgruppenleiter am Deutschen Institut für Wirtschaftsforschung (DIW Berlin) | Professor of Sociology of Social Policy at Humboldt-Universität zu Berlin and research group leader at the German Institute for Economic Research (DIW Berlin). \n\n\nDie Veranstaltungen finden jeweils online von 13:00 Uhr bis 14:00 Uhr MESZ/MEZ statt. | The Tuesday dialogues always take place online (Zoom) from 1-2 pm\, CEST/CET.\nWährend der Veranstaltung wird eine Simultanübersetzung Deutsch-Englisch angeboten. | Simultaneous translation German-English will be provided throughout the event.\nUnsere Zoom-Lizenz ist DSGVO-konform. | Our Zoom licence is GDPR-compliant.
URL:https://einstein-diversity.com/event/tuesday-dialogues-who-can-still-afford-to-buy-their-own-home/
LOCATION:Online on Zoom
CATEGORIES:Tuesday Dialogues
END:VEVENT
BEGIN:VEVENT
DTSTART;TZID=Europe/Berlin:20261006T130000
DTEND;TZID=Europe/Berlin:20261006T140000
DTSTAMP:20260422T000733
CREATED:20260420T085535Z
LAST-MODIFIED:20260420T085535Z
UID:1473-1791291600-1791295200@einstein-diversity.com
SUMMARY:TUESDAY DIALOGUES: Title is to be announced
DESCRIPTION:Titel wird bekannt gegeben \nSpeaker:\nProf. Dr. Sebastian Klüsener\, Forschungsdirektor des Bereichs „Alterung\, Mortalität und Bevölkerungsdynamik” am Bundesinstitut für Bevölkerungsforschung (BiB)\, Wiesbaden\, sowie Außerplanmäßiger Professor am Department für Soziologie und Sozialpsychologie an der Universität zu Köln und Gastprofessor an der Vytauto Didžiojo Universitetas\, Kaunas\, Litauen | Research Director\, Head of the research area “Ageing\, Mortality and Population Dynamics” at the Federal Institute for Population Research\, Wiesbaden\, as well as Adjunct Professor at the Department for Sociology and Social Psychology of the University of Cologne and Visiting Professor at the Vytautas Magnus University\, Kaunas\, Lithuania. \n\n\nDie Veranstaltungen finden jeweils online von 13:00 Uhr bis 14:00 Uhr MESZ/MEZ statt. | The Tuesday dialogues always take place online (Zoom) from 1-2 pm\, CEST/CET.\nWährend der Veranstaltung wird eine Simultanübersetzung Deutsch-Englisch angeboten. | Simultaneous translation German-English will be provided throughout the event.\nUnsere Zoom-Lizenz ist DSGVO-konform. | Our Zoom licence is GDPR-compliant.
URL:https://einstein-diversity.com/event/tuesday-dialogues-title-is-to-be-announced/
LOCATION:Online on Zoom
CATEGORIES:Tuesday Dialogues
END:VEVENT
BEGIN:VEVENT
DTSTART;TZID=Europe/Berlin:20261117T130000
DTEND;TZID=Europe/Berlin:20261117T140000
DTSTAMP:20260422T000733
CREATED:20260420T085839Z
LAST-MODIFIED:20260420T090255Z
UID:1475-1794920400-1794924000@einstein-diversity.com
SUMMARY:TUESDAY DIALOGUES: Title is to be announced
DESCRIPTION:Titel wird bekannt gegeben \nSpeaker: \nProf. Dr. Christiaan Monden\, Professor für Soziologie und Demografie an der University of Oxford und Nuffield College. \n\n\nDie Veranstaltungen finden jeweils online von 13:00 Uhr bis 14:00 Uhr MESZ/MEZ statt. | The Tuesday dialogues always take place online (Zoom) from 1-2 pm\, CEST/CET.\nWährend der Veranstaltung wird eine Simultanübersetzung Deutsch-Englisch angeboten. | Simultaneous translation German-English will be provided throughout the event.\nUnsere Zoom-Lizenz ist DSGVO-konform. | Our Zoom licence is GDPR-compliant.
URL:https://einstein-diversity.com/event/tuesday-dialogues-title-is-to-be-announced-2/
LOCATION:Online on Zoom
CATEGORIES:Tuesday Dialogues
END:VEVENT
BEGIN:VEVENT
DTSTART;TZID=Europe/Berlin:20261201T130000
DTEND;TZID=Europe/Berlin:20261201T140000
DTSTAMP:20260422T000733
CREATED:20260420T090202Z
LAST-MODIFIED:20260420T090202Z
UID:1477-1796130000-1796133600@einstein-diversity.com
SUMMARY:TUESDAY DIALOGUES: Title is to be announced
DESCRIPTION:Titel wird bekannt gegeben \nSpeaker:\nProf. Dr. Nicola Fuchs-Schündeln\, Präsidentin des Wissenschaftszentrums Berlin für Sozialforschung und Professorin für Makroökonomie und Entwicklung an der Goethe-Universität Frankfurt | President of the WZB Berlin Social Science Center and Professor of Macroeconomics and Development at Goethe University Frankfurt \n\n\nDie Veranstaltungen finden jeweils online von 13:00 Uhr bis 14:00 Uhr MESZ/MEZ statt. | The Tuesday dialogues always take place online (Zoom) from 1-2 pm\, CEST/CET.\nWährend der Veranstaltung wird eine Simultanübersetzung Deutsch-Englisch angeboten. | Simultaneous translation German-English will be provided throughout the event.\nUnsere Zoom-Lizenz ist DSGVO-konform. | Our Zoom licence is GDPR-compliant.
URL:https://einstein-diversity.com/event/tuesday-dialogues-title-is-to-be-announced-3/
LOCATION:Online on Zoom
CATEGORIES:Tuesday Dialogues
END:VEVENT
END:VCALENDAR