BEGIN:VCALENDAR
VERSION:2.0
PRODID:-//Einstein Center Population Diversity - ECPv6.15.17//NONSGML v1.0//EN
CALSCALE:GREGORIAN
METHOD:PUBLISH
X-WR-CALNAME:Einstein Center Population Diversity
X-ORIGINAL-URL:https://einstein-diversity.com
X-WR-CALDESC:Events for Einstein Center Population Diversity
REFRESH-INTERVAL;VALUE=DURATION:PT1H
X-Robots-Tag:noindex
X-PUBLISHED-TTL:PT1H
BEGIN:VTIMEZONE
TZID:UTC
BEGIN:STANDARD
TZOFFSETFROM:+0000
TZOFFSETTO:+0000
TZNAME:UTC
DTSTART:20240101T000000
END:STANDARD
END:VTIMEZONE
BEGIN:VEVENT
DTSTART;TZID=UTC:20250310T123000
DTEND;TZID=UTC:20250310T133000
DTSTAMP:20260421T174728
CREATED:20250301T163815Z
LAST-MODIFIED:20260330T084500Z
UID:631-1741609800-1741613400@einstein-diversity.com
SUMMARY:LECTURE SERIES: Variability in Breast Cancer Screening Information Across Europe: A Reflection of Uncertainty?
DESCRIPTION:Together\, the ECPD and Hertie School are presenting: \n🩺 How Much Should You Know? The Presentation of Benefits and Risks of Breast Cancer Screening. \nWe are excited to welcome Giovanni Fattore  from Università Bocconi for a discussion on the communication of benefits and risks associated with breast cancer screening! \nAbstract: \n\nAfter more than 40 years of implementation in middle- to high-income countries\, the risk-benefit profile of breast cancer screening (BCS) remains a topic of debate within the scientific community. European guidelines recommend biennial BCS for women aged 50 to 69 while also emphasizing the importance of fully informing women about its advantages and risks. To assess the consistency of information provided\, I reviewed BCS materials available on institutional websites across 30 European countries. The findings reveal significant variations: in some countries\, women are not explicitly advised to undergo screening but are instead encouraged and aided to make an autonomous decision without a clear recommendation. This choice may stem from the high degree of uncertainty surrounding the benefits and harms of screening\, leading some public health authorities to shift the decision-making burden onto patients rather than issuing definitive guidelines.\n  \nAt one glance:\n📅 Monday\, 10 March 2025⏰ 12:30 – 13:30 (CET)\n📍 Hertie School\, Room 1.61\n💻 On-site and online via Teams\n📩 Register for online participation: socialpolicygroup@hertie-school.org\n🥪 Join us from 12:00 for a light lunch and informal networking! \nThis colloquium provides a valuable opportunity to engage with experts in health policy and social research. Don’t miss this chance to explore effective communication strategies in medical decision-making! \n 
URL:https://einstein-diversity.com/event/variability-in-breast-cancer-screening-information-across-europe-a-reflection-of-uncertainty/
LOCATION:Hertie School of Governance\, Friedrichstraße 180 / Forum A\, Berlin\, 10117\, Germany
CATEGORIES:Lecture Series
ATTACH;FMTTYPE=image/jpeg:https://einstein-diversity.com/wp-content/uploads/2025/03/vedi_img.php_.jpg
END:VEVENT
END:VCALENDAR