BEGIN:VCALENDAR
VERSION:2.0
PRODID:-//Einstein Center Population Diversity - ECPv6.15.17//NONSGML v1.0//EN
CALSCALE:GREGORIAN
METHOD:PUBLISH
X-WR-CALNAME:Einstein Center Population Diversity
X-ORIGINAL-URL:https://einstein-diversity.com
X-WR-CALDESC:Events for Einstein Center Population Diversity
REFRESH-INTERVAL;VALUE=DURATION:PT1H
X-Robots-Tag:noindex
X-PUBLISHED-TTL:PT1H
BEGIN:VTIMEZONE
TZID:UTC
BEGIN:STANDARD
TZOFFSETFROM:+0000
TZOFFSETTO:+0000
TZNAME:UTC
DTSTART:20240101T000000
END:STANDARD
END:VTIMEZONE
BEGIN:VEVENT
DTSTART;TZID=UTC:20250403T120000
DTEND;TZID=UTC:20250403T130000
DTSTAMP:20260421T161509
CREATED:20241216T131601Z
LAST-MODIFIED:20251114T122142Z
UID:511-1743681600-1743685200@einstein-diversity.com
SUMMARY:ECPD DISTINGUISHED LECTURES: The benefits and harms of ethnic group classification in multicultural societies: public health and social perspectives.
DESCRIPTION:On April 3rd\, 2024\, Professor Raj Bhopal CBE will be a guest of the Einstein Center Population Diversity (ECPD) for a Distinguished Lecture with the title “The benefits and harms of ethnic group classification in multicultural societies: public health and social perspectives.” \nClick this link to download an abstract for the upcoming Distinguished Lecture. \n\nThe Lecture will be in English. The number of seats is limited\, so make sure to sign up through this online RSVP form.\n \n\n\nAbout Professor Raj Bhopal CBE\, DSc (hon)\, MD\, BSc\, MBChB\, MPH\, FRCP(E)\, FFPH \nRaj Bhopal was born in India\, brought up in Glasgow\, Scotland from 1955\, and studied medicine in Edinburgh University (1971-1978). He is a medically qualified Professor of Public Health in Edinburgh University\, holding the John Usher Chair of Public health and the post of honorary consultant in public health with NHS Lothian from 1999 until he retired in May 2018. He is now Emeritus Professor of Public Health at the University of Edinburgh. Earlier\, he held posts including Professor of Public Health and Epidemiology at Newcastle University (1991-1998)\, and prior to that Lecturer in Public Health at Glasgow University (1985-1988). \nHis books include Concepts of Epidemiology\, Migration\, Ethnicity\, Race and Health\, and Epidemic of Cardiovascular Disease and Diabetes: Explaining the Phenomenon in South Asians Worldwide (all Oxford University Press). \nHe has published on many aspects of public health epidemiology\, with over 300 research and scholarly papers\, especially on ethnic variations in health status including CVD and type 2 diabetes\, but most recently on the COVID-19 pandemic. He has served on numerous organisations and committees\, been the leader of many research projects\, and held leadership roles in the NHS. He was the chairman and leader of both the 19th World Congress of Epidemiology in 2011\, and the first World Congress on Migration\, Ethnicity\, Race and Health in 2018\, both in Edinburgh. \nProfessor Bhopal has enjoyed several honours and prizes\, most notably being appointed CBE (Commander of the Most Excellent Order of the British Empire) by her Majesty the Queen in 2001. \n 
URL:https://einstein-diversity.com/event/the-benefits-and-harms-of-ethnic-group-classification-in-multicultural-societies-public-health-and-social-perspectives/
LOCATION:Hörsaalruine of the Berlin Museum of Medical History at the Charité\, Virchowweg 16\, Berlin\, 10117\, Germany
CATEGORIES:ECPD Distinguished Lectures
ATTACH;FMTTYPE=image/jpeg:https://einstein-diversity.com/wp-content/uploads/2024/12/bhopal.jpg
END:VEVENT
END:VCALENDAR